BEGIN:VCALENDAR
VERSION:2.0
PRODID:-//The Hearts Project - ECPv6.15.18//NONSGML v1.0//EN
CALSCALE:GREGORIAN
METHOD:PUBLISH
X-ORIGINAL-URL:https://theheartsproject.com
X-WR-CALDESC:Events for The Hearts Project
REFRESH-INTERVAL;VALUE=DURATION:PT1H
X-Robots-Tag:noindex
X-PUBLISHED-TTL:PT1H
BEGIN:VTIMEZONE
TZID:America/Chicago
BEGIN:DAYLIGHT
TZOFFSETFROM:-0600
TZOFFSETTO:-0500
TZNAME:CDT
DTSTART:20240310T080000
END:DAYLIGHT
BEGIN:STANDARD
TZOFFSETFROM:-0500
TZOFFSETTO:-0600
TZNAME:CST
DTSTART:20241103T070000
END:STANDARD
BEGIN:DAYLIGHT
TZOFFSETFROM:-0600
TZOFFSETTO:-0500
TZNAME:CDT
DTSTART:20250309T080000
END:DAYLIGHT
BEGIN:STANDARD
TZOFFSETFROM:-0500
TZOFFSETTO:-0600
TZNAME:CST
DTSTART:20251102T070000
END:STANDARD
BEGIN:DAYLIGHT
TZOFFSETFROM:-0600
TZOFFSETTO:-0500
TZNAME:CDT
DTSTART:20260308T080000
END:DAYLIGHT
BEGIN:STANDARD
TZOFFSETFROM:-0500
TZOFFSETTO:-0600
TZNAME:CST
DTSTART:20261101T070000
END:STANDARD
BEGIN:DAYLIGHT
TZOFFSETFROM:-0600
TZOFFSETTO:-0500
TZNAME:CDT
DTSTART:20270314T080000
END:DAYLIGHT
BEGIN:STANDARD
TZOFFSETFROM:-0500
TZOFFSETTO:-0600
TZNAME:CST
DTSTART:20271107T070000
END:STANDARD
END:VTIMEZONE
BEGIN:VEVENT
DTSTART;TZID=America/Chicago:20250628T030000
DTEND;TZID=America/Chicago:20251109T110000
DTSTAMP:20260421T184039
CREATED:20251103T235436Z
LAST-MODIFIED:20251104T000806Z
UID:10000005-1751079600-1762686000@theheartsproject.com
SUMMARY:COVID-19 Memorial Exhibit at LIKEWISE
DESCRIPTION:
URL:https://theheartsproject.com/event/covid-19-memorial-exhibit/
LOCATION:LIKEWISE\, 70 N. College\, Fayetteville\, AR\, 72701\, United States
CATEGORIES:Exhibit
ATTACH;FMTTYPE=image/jpeg:https://theheartsproject.com/wp-content/uploads/2025/11/Likewise-Community-Ariel-photo.jpg
END:VEVENT
BEGIN:VEVENT
DTSTART;TZID=America/Chicago:20250909T030000
DTEND;TZID=America/Chicago:20250909T120000
DTSTAMP:20260421T184039
CREATED:20251104T002814Z
LAST-MODIFIED:20251104T002814Z
UID:10000009-1757386800-1757419200@theheartsproject.com
SUMMARY:Artist Talk at P.E.O. (CE Chapter)
DESCRIPTION:On Tuesday\, September 9\, Monica gave a presentation about The Hearts Project to the CE Chapter of P.E.O. in Siloam Springs\, a women’s philanthropic organization with a worldwide mission to celebrate\, support\, and motivate women to advance through education. They were an extremely attentive audience who visibly felt the gravity of what she was saying about the pandemic’s effects on everyone’s life.\n\nShe will soon ask P.E.O. members to help move The Hearts Project forward\, with hopes that some will be willing to share their personal stories about their pandemic experiences. Perhaps some will volunteer to cut a few hearts\, while still others might know of venues with an interest in exhibiting the frames. Finally\, if there were any artists in the audience\, they might agree to create their own artistic rendering of the pandemic that will\, with their permission\, reside within our ever-expanding collection of pandemic art.\n\nIn this way\, The Hearts Project becomes a give and get community effort. In exchange for information Monica gives\, she receives ideas for how to grow the project and gain ever more exposure\, vitally important to ensuring we never forget the pandemic
URL:https://theheartsproject.com/event/artist-talk-at-p-e-o-ce-chapter/
LOCATION:AR
CATEGORIES:Presentation
ATTACH;FMTTYPE=image/webp:https://theheartsproject.com/wp-content/uploads/2025/10/Updates-September-2025.webp
END:VEVENT
BEGIN:VEVENT
DTSTART;TZID=America/Chicago:20251110T020000
DTEND;TZID=America/Chicago:20260220T110000
DTSTAMP:20260421T184039
CREATED:20251104T000734Z
LAST-MODIFIED:20260105T225905Z
UID:10000006-1762740000-1771585200@theheartsproject.com
SUMMARY:COVID-19 Memorial at NWACC
DESCRIPTION:The COVID-19 Memorial Exhibit will be located in the Walmart Auditorium in the Shewmaker Center for Workforce Technologies.\nTo arrange your visit during a time when the Walmart Auditorium is available\, email special.events@nwacc.edu.\n\nConsider the Holiday Closures schedule\, too–\nNWACC will be closed:\n11/27-11/28 – Thanksgiving Break\n12/24-01/010 – Holiday Break\n1/19 – MLK Holiday
URL:https://theheartsproject.com/event/covid-19-memorial-at-nwacc/
LOCATION:Shewmaker Center For Workforce Technologies\, 1000 SE Eagle Way\,\, Bentonville\, 72712\, United States
CATEGORIES:Exhibit
ATTACH;FMTTYPE=image/webp:https://theheartsproject.com/wp-content/uploads/2025/11/COVID-Memorial-at-NWACC-2025-2026.webp
END:VEVENT
BEGIN:VEVENT
DTSTART;TZID=America/Chicago:20260116T110000
DTEND;TZID=America/Chicago:20260116T130000
DTSTAMP:20260421T184039
CREATED:20251106T024708Z
LAST-MODIFIED:20251112T040833Z
UID:10000014-1768561200-1768568400@theheartsproject.com
SUMMARY:Opening Reception: Collaborative Pandemic Art
DESCRIPTION:
URL:https://theheartsproject.com/event/opening-reception-collaborative-pandemic-art/
LOCATION:Fort Smith Regional Art Museum\, 1601 Rogers Avenue\, Fort Smith\, AR\, 72901\, United States
CATEGORIES:Event
ATTACH;FMTTYPE=image/jpeg:https://theheartsproject.com/wp-content/uploads/2025/11/FtSmith-RAM.jpg
END:VEVENT
BEGIN:VEVENT
DTSTART;TZID=America/Chicago:20260117T020000
DTEND;TZID=America/Chicago:20260510T120000
DTSTAMP:20260421T184039
CREATED:20251106T023955Z
LAST-MODIFIED:20260323T192109Z
UID:10000013-1768615200-1778414400@theheartsproject.com
SUMMARY:New Memorial Frame Debut + Life Styles Exhibit
DESCRIPTION:
URL:https://theheartsproject.com/event/new-memorial-frame-debut-life-styles-exhibit/
LOCATION:Fort Smith Regional Art Museum\, 1601 Rogers Avenue\, Fort Smith\, AR\, 72901\, United States
CATEGORIES:Exhibit
ATTACH;FMTTYPE=image/webp:https://theheartsproject.com/wp-content/uploads/2025/11/RAM-Exhibit-2026.webp
END:VEVENT
BEGIN:VEVENT
DTSTART;TZID=America/Chicago:20260220T020000
DTEND;TZID=America/Chicago:20261014T120000
DTSTAMP:20260421T184039
CREATED:20251104T000948Z
LAST-MODIFIED:20260403T013607Z
UID:10000007-1771552800-1791979200@theheartsproject.com
SUMMARY:COVID-19 Memorial at LIKEWISE
DESCRIPTION:
URL:https://theheartsproject.com/event/covid-19-memorial-at-likewise/
LOCATION:LIKEWISE\, 70 N. College\, Fayetteville\, AR\, 72701\, United States
CATEGORIES:Exhibit
ATTACH;FMTTYPE=image/webp:https://theheartsproject.com/wp-content/uploads/2025/11/Likewise-Display.webp
END:VEVENT
BEGIN:VEVENT
DTSTART;TZID=America/Chicago:20261020T120000
DTEND;TZID=America/Chicago:20261215T110000
DTSTAMP:20260421T184039
CREATED:20251115T031614Z
LAST-MODIFIED:20251115T033311Z
UID:10000020-1792497600-1797332400@theheartsproject.com
SUMMARY:COVID-19 Memorial at The Medium
DESCRIPTION:
URL:https://theheartsproject.com/event/covid-19-memorial-at-the-medium/
LOCATION:The Medium\, 214 S. Main Street\, Springdale\, AR\, 72764\, United States
CATEGORIES:Exhibit
ATTACH;FMTTYPE=image/jpeg:https://theheartsproject.com/wp-content/uploads/2025/11/The-Medium-2026.jpg
END:VEVENT
END:VCALENDAR